BEGIN:VCALENDAR
VERSION:2.0
PRODID:-//Urban Forestry Program - ECPv6.7.0//NONSGML v1.0//EN
CALSCALE:GREGORIAN
METHOD:PUBLISH
X-WR-CALNAME:Urban Forestry Program
X-ORIGINAL-URL:https://urbanforestry.rutgers.edu
X-WR-CALDESC:Events for Urban Forestry Program
REFRESH-INTERVAL;VALUE=DURATION:PT1H
X-Robots-Tag:noindex
X-PUBLISHED-TTL:PT1H
BEGIN:VTIMEZONE
TZID:UTC
BEGIN:STANDARD
TZOFFSETFROM:+0000
TZOFFSETTO:+0000
TZNAME:UTC
DTSTART:20230101T000000
END:STANDARD
END:VTIMEZONE
BEGIN:VEVENT
DTSTART;VALUE=DATE:20230921
DTEND;VALUE=DATE:20230925
DTSTAMP:20260424T051930
CREATED:20230626T200647Z
LAST-MODIFIED:20230626T200647Z
UID:713-1695254400-1695599999@urbanforestry.rutgers.edu
SUMMARY:NJ Woodland Stewards
DESCRIPTION:2023 New Jersey Woodland Stewards Program\nA volunteer forestry education program sponsored by the NJ Forestry Association\, Rutgers Cooperative Extension and the NJ Forest Service \nSeptember 21 · 4pm – September 24 · 3:15pm EDT \nhttps://www.eventbrite.com/e/2023-new-jersey-woodland-stewards-program-registration-634805378977 \nhttps://www.nj.gov/dep/parksandforests/forest/privatelands/woodlandstewards.html \n 
URL:https://urbanforestry.rutgers.edu/event/nj-woodland-stewards/
END:VEVENT
END:VCALENDAR